BEGIN:VCALENDAR
VERSION:2.0
PRODID:-//Adoption &amp; Fostering - ECPv6.15.20//NONSGML v1.0//EN
CALSCALE:GREGORIAN
METHOD:PUBLISH
X-ORIGINAL-URL:https://adoptionandfostercare.hscni.net
X-WR-CALDESC:Events for Adoption &amp; Fostering
REFRESH-INTERVAL;VALUE=DURATION:PT1H
X-Robots-Tag:noindex
X-PUBLISHED-TTL:PT1H
BEGIN:VTIMEZONE
TZID:Europe/London
BEGIN:DAYLIGHT
TZOFFSETFROM:+0000
TZOFFSETTO:+0100
TZNAME:BST
DTSTART:20230326T010000
END:DAYLIGHT
BEGIN:STANDARD
TZOFFSETFROM:+0100
TZOFFSETTO:+0000
TZNAME:GMT
DTSTART:20231029T010000
END:STANDARD
BEGIN:DAYLIGHT
TZOFFSETFROM:+0000
TZOFFSETTO:+0100
TZNAME:BST
DTSTART:20240331T010000
END:DAYLIGHT
BEGIN:STANDARD
TZOFFSETFROM:+0100
TZOFFSETTO:+0000
TZNAME:GMT
DTSTART:20241027T010000
END:STANDARD
BEGIN:DAYLIGHT
TZOFFSETFROM:+0000
TZOFFSETTO:+0100
TZNAME:BST
DTSTART:20250330T010000
END:DAYLIGHT
BEGIN:STANDARD
TZOFFSETFROM:+0100
TZOFFSETTO:+0000
TZNAME:GMT
DTSTART:20251026T010000
END:STANDARD
END:VTIMEZONE
BEGIN:VEVENT
DTSTART;TZID=Europe/London:20240910T150000
DTEND;TZID=Europe/London:20240910T170000
DTSTAMP:20260421T163322
CREATED:20241001T132905Z
LAST-MODIFIED:20241001T132905Z
UID:6145-1725980400-1725987600@adoptionandfostercare.hscni.net
SUMMARY:Virtual adoption information session
DESCRIPTION:We would particularly welcome enquirers from the Western area. \nTo register for this event: Call 0800 0720 137 or email your contact details to: info@fostering.hscni.net and we will send you a link
URL:https://adoptionandfostercare.hscni.net/event/virtual-adoption-information-session/
LOCATION:Microsoft Teams
CATEGORIES:Virtual Information Sessions
END:VEVENT
END:VCALENDAR