BEGIN:VCALENDAR
VERSION:2.0
PRODID:-//Adoption &amp; Fostering - ECPv6.15.20//NONSGML v1.0//EN
CALSCALE:GREGORIAN
METHOD:PUBLISH
X-WR-CALNAME:Adoption &amp; Fostering
X-ORIGINAL-URL:https://adoptionandfostercare.hscni.net
X-WR-CALDESC:Events for Adoption &amp; Fostering
REFRESH-INTERVAL;VALUE=DURATION:PT1H
X-Robots-Tag:noindex
X-PUBLISHED-TTL:PT1H
BEGIN:VTIMEZONE
TZID:Europe/London
BEGIN:DAYLIGHT
TZOFFSETFROM:+0000
TZOFFSETTO:+0100
TZNAME:BST
DTSTART:20230326T010000
END:DAYLIGHT
BEGIN:STANDARD
TZOFFSETFROM:+0100
TZOFFSETTO:+0000
TZNAME:GMT
DTSTART:20231029T010000
END:STANDARD
BEGIN:DAYLIGHT
TZOFFSETFROM:+0000
TZOFFSETTO:+0100
TZNAME:BST
DTSTART:20240331T010000
END:DAYLIGHT
BEGIN:STANDARD
TZOFFSETFROM:+0100
TZOFFSETTO:+0000
TZNAME:GMT
DTSTART:20241027T010000
END:STANDARD
BEGIN:DAYLIGHT
TZOFFSETFROM:+0000
TZOFFSETTO:+0100
TZNAME:BST
DTSTART:20250330T010000
END:DAYLIGHT
BEGIN:STANDARD
TZOFFSETFROM:+0100
TZOFFSETTO:+0000
TZNAME:GMT
DTSTART:20251026T010000
END:STANDARD
BEGIN:DAYLIGHT
TZOFFSETFROM:+0000
TZOFFSETTO:+0100
TZNAME:BST
DTSTART:20260329T010000
END:DAYLIGHT
BEGIN:STANDARD
TZOFFSETFROM:+0100
TZOFFSETTO:+0000
TZNAME:GMT
DTSTART:20261025T010000
END:STANDARD
END:VTIMEZONE
BEGIN:VEVENT
DTSTART;TZID=Europe/London:20250827T193000
DTEND;TZID=Europe/London:20250827T203000
DTSTAMP:20260421T140912
CREATED:20241004T132433Z
LAST-MODIFIED:20241004T132433Z
UID:6257-1756323000-1756326600@adoptionandfostercare.hscni.net
SUMMARY:Fostering Virtual Information Session
DESCRIPTION:Join via Microsoft Teams \nMeeting ID: 338 613 465 78 \nPasscode: FkjXs2 \nOpen to all with no registration required
URL:https://adoptionandfostercare.hscni.net/event/fostering-virtual-information-session-11/
LOCATION:Microsoft Teams
CATEGORIES:Virtual Information Sessions
END:VEVENT
BEGIN:VEVENT
DTSTART;TZID=Europe/London:20250813T130000
DTEND;TZID=Europe/London:20250813T133000
DTSTAMP:20260421T140912
CREATED:20241004T103839Z
LAST-MODIFIED:20241004T103839Z
UID:6233-1755090000-1755091800@adoptionandfostercare.hscni.net
SUMMARY:Fostering Virtual Information Session
DESCRIPTION:Join via Microsoft Teams \nMeeting ID: 378 360 474 65 \nPasscode: zz2QsH \nOpen to all with no registration required
URL:https://adoptionandfostercare.hscni.net/event/fostering-virtual-information-session-3/
LOCATION:Microsoft Teams
CATEGORIES:Virtual Information Sessions
END:VEVENT
BEGIN:VEVENT
DTSTART;TZID=Europe/London:20250730T193000
DTEND;TZID=Europe/London:20250730T203000
DTSTAMP:20260421T140912
CREATED:20241004T131643Z
LAST-MODIFIED:20241004T131643Z
UID:6255-1753903800-1753907400@adoptionandfostercare.hscni.net
SUMMARY:Fostering Virtual Information Session
DESCRIPTION:Join via Microsoft Teams \nMeeting ID: 338 613 465 78 \nPasscode: FkjXs2 \nOpen to all with no registration required
URL:https://adoptionandfostercare.hscni.net/event/fostering-virtual-information-session-10/
LOCATION:Microsoft Teams
CATEGORIES:Virtual Information Sessions
END:VEVENT
BEGIN:VEVENT
DTSTART;TZID=Europe/London:20250709T130000
DTEND;TZID=Europe/London:20250709T133000
DTSTAMP:20260421T140912
CREATED:20241004T105839Z
LAST-MODIFIED:20241004T105839Z
UID:6238-1752066000-1752067800@adoptionandfostercare.hscni.net
SUMMARY:Fostering Virtual Information Session
DESCRIPTION:Join via Microsoft Teams \nMeeting ID: 378 360 474 65 \nPasscode: zz2QsH \nOpen to all with no registration required
URL:https://adoptionandfostercare.hscni.net/event/fostering-virtual-information-session-5/
LOCATION:Microsoft Teams
CATEGORIES:Virtual Information Sessions
END:VEVENT
BEGIN:VEVENT
DTSTART;TZID=Europe/London:20250625T193000
DTEND;TZID=Europe/London:20250625T203000
DTSTAMP:20260421T140912
CREATED:20241004T130654Z
LAST-MODIFIED:20241004T132024Z
UID:6253-1750879800-1750883400@adoptionandfostercare.hscni.net
SUMMARY:Fostering Virtual Information Session
DESCRIPTION:Join via Microsoft Teams \nMeeting ID: 338 613 465 78 \nPasscode: FkjXs2 \nOpen to all with no registration required
URL:https://adoptionandfostercare.hscni.net/event/fostering-virtual-information-session-9/
LOCATION:Microsoft Teams
CATEGORIES:Virtual Information Sessions
END:VEVENT
BEGIN:VEVENT
DTSTART;TZID=Europe/London:20250611T130000
DTEND;TZID=Europe/London:20250611T133000
DTSTAMP:20260421T140912
CREATED:20241004T103207Z
LAST-MODIFIED:20241004T103207Z
UID:6231-1749646800-1749648600@adoptionandfostercare.hscni.net
SUMMARY:Fostering Virtual Information Session
DESCRIPTION:Join via Microsoft Teams \nMeeting ID: 378 360 474 65 \nPasscode: zz2QsH \nOpen to all with no registration required
URL:https://adoptionandfostercare.hscni.net/event/fostering-virtual-information-session-2/
LOCATION:Microsoft Teams
CATEGORIES:Virtual Information Sessions
END:VEVENT
BEGIN:VEVENT
DTSTART;TZID=Europe/London:20250514T130000
DTEND;TZID=Europe/London:20250514T133000
DTSTAMP:20260421T140912
CREATED:20241004T103016Z
LAST-MODIFIED:20241004T103016Z
UID:6229-1747227600-1747229400@adoptionandfostercare.hscni.net
SUMMARY:Fostering Virtual Information Session
DESCRIPTION:Join via Microsoft Teams \nMeeting ID: 378 360 474 65 \nPasscode: zz2QsH \nOpen to all with no registration required
URL:https://adoptionandfostercare.hscni.net/event/fostering-virtual-information-session/
LOCATION:Microsoft Teams
CATEGORIES:Virtual Information Sessions
END:VEVENT
BEGIN:VEVENT
DTSTART;TZID=Europe/London:20250430T193000
DTEND;TZID=Europe/London:20250430T203000
DTSTAMP:20260421T140912
CREATED:20241004T125411Z
LAST-MODIFIED:20241004T131745Z
UID:6249-1746041400-1746045000@adoptionandfostercare.hscni.net
SUMMARY:Fostering Virtual Information Session
DESCRIPTION:Join via Microsoft Teams \nMeeting ID: 338 613 465 78 \nPasscode: FkjXs2 \nOpen to all with no registration required
URL:https://adoptionandfostercare.hscni.net/event/fostering-virtual-information-session-7/
LOCATION:Microsoft Teams
CATEGORIES:Virtual Information Sessions
END:VEVENT
BEGIN:VEVENT
DTSTART;TZID=Europe/London:20250409T130000
DTEND;TZID=Europe/London:20250409T133000
DTSTAMP:20260421T140912
CREATED:20241004T102736Z
LAST-MODIFIED:20241004T102736Z
UID:6227-1744203600-1744205400@adoptionandfostercare.hscni.net
SUMMARY:Virtual fostering information session
DESCRIPTION:Join via Microsoft Teams \nMeeting ID: 378 360 474 65 \nPasscode: zz2QsH \nOpen to all with no registration required
URL:https://adoptionandfostercare.hscni.net/event/virtual-fostering-information-session-4/
LOCATION:Microsoft Teams
CATEGORIES:Virtual Information Sessions
END:VEVENT
BEGIN:VEVENT
DTSTART;TZID=Europe/London:20250326T193000
DTEND;TZID=Europe/London:20250326T203000
DTSTAMP:20260421T140912
CREATED:20241001T073612Z
LAST-MODIFIED:20241004T122847Z
UID:6079-1743017400-1743021000@adoptionandfostercare.hscni.net
SUMMARY:Virtual fostering information session
DESCRIPTION:Join via Microsoft Teams \nMeeting ID: 338 613 465 78 \nPasscode: FkjXs2 \nOpen to all with no registration required
URL:https://adoptionandfostercare.hscni.net/event/virtual-fostering-information-session-open-to-all-no-registration-required-26-03-25/
LOCATION:Microsoft Teams
CATEGORIES:Virtual Information Sessions
END:VEVENT
BEGIN:VEVENT
DTSTART;TZID=Europe/London:20250312T130000
DTEND;TZID=Europe/London:20250312T133000
DTSTAMP:20260421T140912
CREATED:20241001T075519Z
LAST-MODIFIED:20241004T101847Z
UID:6093-1741784400-1741786200@adoptionandfostercare.hscni.net
SUMMARY:Virtual fostering information session
DESCRIPTION:Join via Microsoft Teams \nMeeting ID: 378 360 474 65 \nPasscode: zz2QsH \nOpen to all with no registration required
URL:https://adoptionandfostercare.hscni.net/event/virtual-fostering-information-session-08-03-25/
LOCATION:Microsoft Teams
CATEGORIES:Virtual Information Sessions
END:VEVENT
BEGIN:VEVENT
DTSTART;TZID=Europe/London:20250226T193000
DTEND;TZID=Europe/London:20250226T203000
DTSTAMP:20260421T140912
CREATED:20241001T075115Z
LAST-MODIFIED:20241004T121040Z
UID:6087-1740598200-1740601800@adoptionandfostercare.hscni.net
SUMMARY:Virtual fostering information session
DESCRIPTION:Join via Microsoft Teams \nMeeting ID: 338 613 465 78 \nPasscode: FkjXs2 \nOpen to all with no registration required
URL:https://adoptionandfostercare.hscni.net/event/virtual-fostering-information-session-26-02-25/
LOCATION:Microsoft Teams
CATEGORIES:Virtual Information Sessions
END:VEVENT
BEGIN:VEVENT
DTSTART;TZID=Europe/London:20250212T130000
DTEND;TZID=Europe/London:20250212T133000
DTSTAMP:20260421T140912
CREATED:20241001T075719Z
LAST-MODIFIED:20241004T101015Z
UID:6095-1739365200-1739367000@adoptionandfostercare.hscni.net
SUMMARY:Virtual fostering information session
DESCRIPTION:Join via Microsoft Teams \nMeeting ID: 378 360 474 65 \nPasscode: zz2QsH \nOpen to all with no registration required
URL:https://adoptionandfostercare.hscni.net/event/virtual-fostering-information-session-12-02-25/
LOCATION:Microsoft Teams
CATEGORIES:Virtual Information Sessions
END:VEVENT
BEGIN:VEVENT
DTSTART;TZID=Europe/London:20250129T193000
DTEND;TZID=Europe/London:20250129T203000
DTSTAMP:20260421T140912
CREATED:20241001T075357Z
LAST-MODIFIED:20241004T120736Z
UID:6091-1738179000-1738182600@adoptionandfostercare.hscni.net
SUMMARY:Virtual fostering information session
DESCRIPTION:Join via Microsoft Teams \nMeeting ID: 338 613 465 78 \nPasscode: FkjXs2 \nOpen to all with no registration required
URL:https://adoptionandfostercare.hscni.net/event/virtual-fostering-information-session-29-01-25/
LOCATION:Microsoft Teams
CATEGORIES:Virtual Information Sessions
END:VEVENT
BEGIN:VEVENT
DTSTART;TZID=Europe/London:20250108T130000
DTEND;TZID=Europe/London:20250108T133000
DTSTAMP:20260421T140912
CREATED:20241001T124246Z
LAST-MODIFIED:20241004T095844Z
UID:6121-1736341200-1736343000@adoptionandfostercare.hscni.net
SUMMARY:Virtual fostering information session
DESCRIPTION:Join via Microsoft Teams \nMeeting ID: 378 360 474 65 \nPasscode: zz2QsH \nOpen to all with no registration required
URL:https://adoptionandfostercare.hscni.net/event/virtual-fostering-information-session-08-01-25/
LOCATION:Microsoft Teams
CATEGORIES:Virtual Information Sessions
END:VEVENT
BEGIN:VEVENT
DTSTART;TZID=Europe/London:20241211T193000
DTEND;TZID=Europe/London:20241211T203000
DTSTAMP:20260421T140912
CREATED:20241001T124515Z
LAST-MODIFIED:20241004T114348Z
UID:6123-1733945400-1733949000@adoptionandfostercare.hscni.net
SUMMARY:Virtual fostering information session
DESCRIPTION:Join via Microsoft Teams \nMeeting ID: 338 613 465 78 \nPasscode: FkjXs2 \nOpen to all with no registration required
URL:https://adoptionandfostercare.hscni.net/event/virtual-fostering-information-session/
LOCATION:Microsoft Teams
CATEGORIES:Virtual Information Sessions
END:VEVENT
BEGIN:VEVENT
DTSTART;TZID=Europe/London:20241127T193000
DTEND;TZID=Europe/London:20241127T203000
DTSTAMP:20260421T140912
CREATED:20241001T124748Z
LAST-MODIFIED:20241004T113257Z
UID:6126-1732735800-1732739400@adoptionandfostercare.hscni.net
SUMMARY:Virtual fostering information session
DESCRIPTION:Join via Microsoft Teams \nMeeting ID: 338 613 465 78 \nPasscode: FkjXs2 \nOpen to all with no registration required
URL:https://adoptionandfostercare.hscni.net/event/virtual-fostering-information-session-27-11-24/
LOCATION:Microsoft Teams
CATEGORIES:Virtual Information Sessions
END:VEVENT
BEGIN:VEVENT
DTSTART;TZID=Europe/London:20241113T130000
DTEND;TZID=Europe/London:20241113T133000
DTSTAMP:20260421T140912
CREATED:20241004T100408Z
LAST-MODIFIED:20241004T100408Z
UID:6223-1731502800-1731504600@adoptionandfostercare.hscni.net
SUMMARY:Virtual fostering information session
DESCRIPTION:Join via Microsoft Teams \nMeeting ID: 378 360 474 65 \nPasscode: zz2QsH \nOpen to all with no registration required
URL:https://adoptionandfostercare.hscni.net/event/virtual-fostering-information-session-3/
LOCATION:Microsoft Teams
CATEGORIES:Virtual Information Sessions
END:VEVENT
BEGIN:VEVENT
DTSTART;TZID=Europe/London:20241030T193000
DTEND;TZID=Europe/London:20241030T203000
DTSTAMP:20260421T140912
CREATED:20241001T131027Z
LAST-MODIFIED:20241004T110433Z
UID:6133-1730316600-1730320200@adoptionandfostercare.hscni.net
SUMMARY:Virtual fostering information session
DESCRIPTION:Join via Microsoft Teams \nMeeting ID: 338 613 465 78 \nPasscode: FkjXs2 \nOpen to all with no registration required
URL:https://adoptionandfostercare.hscni.net/event/virtual-fostering-information-session-30-10-24/
LOCATION:Microsoft Teams
CATEGORIES:Virtual Information Sessions
END:VEVENT
BEGIN:VEVENT
DTSTART;TZID=Europe/London:20241009T130000
DTEND;TZID=Europe/London:20241009T133000
DTSTAMP:20260421T140912
CREATED:20241001T131511Z
LAST-MODIFIED:20241004T094650Z
UID:6135-1728478800-1728480600@adoptionandfostercare.hscni.net
SUMMARY:Virtual fostering information session
DESCRIPTION:Join via Microsoft Teams \nMeeting ID: 378 360 474 65 \nPasscode: zz2QsH \nOpen to all with no registration required
URL:https://adoptionandfostercare.hscni.net/event/virtual-fostering-information-session-2/
LOCATION:Microsoft Teams
CATEGORIES:Virtual Information Sessions
END:VEVENT
BEGIN:VEVENT
DTSTART;TZID=Europe/London:20241002T190000
DTEND;TZID=Europe/London:20241002T210000
DTSTAMP:20260421T140912
CREATED:20241001T132209Z
LAST-MODIFIED:20241002T140501Z
UID:6137-1727895600-1727902800@adoptionandfostercare.hscni.net
SUMMARY:Child specific fostering appeal
DESCRIPTION:Ella* (11) & Joe* (6) (sibling group in Southern area)\nAlfie* (6) and Kristina* (5) (sibling group in Southern area)\n\nRead their profiles \nTo register for this session: Call 0800 0720 137 or email your contact details to: info@fostering.hscni.net and we will send you a link
URL:https://adoptionandfostercare.hscni.net/event/child-specific-fostering-appeal-02-10-24/
LOCATION:Microsoft Teams
CATEGORIES:Virtual Information Sessions
END:VEVENT
BEGIN:VEVENT
DTSTART;TZID=Europe/London:20241001T080000
DTEND;TZID=Europe/London:20241001T170000
DTSTAMP:20260421T140912
CREATED:20241001T125359Z
LAST-MODIFIED:20241001T125422Z
UID:6130-1727769600-1727802000@adoptionandfostercare.hscni.net
SUMMARY:Virtual fostering information session
DESCRIPTION:Join via Microsoft Teams \nMeeting ID: 378 360 474 65 \nPasscode: zz2QsH \nOpen to all with no registration required
URL:https://adoptionandfostercare.hscni.net/event/virtual-fostering-information-session-13-11-24/
LOCATION:Microsoft Teams
CATEGORIES:Virtual Information Sessions
END:VEVENT
BEGIN:VEVENT
DTSTART;TZID=Europe/London:20240925T193000
DTEND;TZID=Europe/London:20240925T203000
DTSTAMP:20260421T140912
CREATED:20241001T132420Z
LAST-MODIFIED:20241001T132455Z
UID:6139-1727292600-1727296200@adoptionandfostercare.hscni.net
SUMMARY:Virtual fostering information session
DESCRIPTION:Join via Microsoft Teams \nMeeting ID: 338 613 465 78 \nPasscode: FkjXs2 \nOpen to all with no registration required
URL:https://adoptionandfostercare.hscni.net/event/virtual-fostering-information-session-25-09-25/
LOCATION:Microsoft Teams
CATEGORIES:Virtual Information Sessions
END:VEVENT
BEGIN:VEVENT
DTSTART;TZID=Europe/London:20240911T130000
DTEND;TZID=Europe/London:20240911T133000
DTSTAMP:20260421T140912
CREATED:20241001T132703Z
LAST-MODIFIED:20241001T132703Z
UID:6143-1726059600-1726061400@adoptionandfostercare.hscni.net
SUMMARY:Virtual fostering information session
DESCRIPTION:Join via Microsoft Teams \nMeeting ID: 378 360 474 65 \nPasscode: zz2QsH \nOpen to all with no registration required
URL:https://adoptionandfostercare.hscni.net/event/virtual-fostering-information-session-11-09-24/
LOCATION:Microsoft Teams
CATEGORIES:Virtual Information Sessions
END:VEVENT
BEGIN:VEVENT
DTSTART;TZID=Europe/London:20240910T150000
DTEND;TZID=Europe/London:20240910T170000
DTSTAMP:20260421T140912
CREATED:20241001T132905Z
LAST-MODIFIED:20241001T132905Z
UID:6145-1725980400-1725987600@adoptionandfostercare.hscni.net
SUMMARY:Virtual adoption information session
DESCRIPTION:We would particularly welcome enquirers from the Western area. \nTo register for this event: Call 0800 0720 137 or email your contact details to: info@fostering.hscni.net and we will send you a link
URL:https://adoptionandfostercare.hscni.net/event/virtual-adoption-information-session/
LOCATION:Microsoft Teams
CATEGORIES:Virtual Information Sessions
END:VEVENT
END:VCALENDAR